BEGIN:VCALENDAR
VERSION:2.0
PRODID:-//Tukios.com/
BEGIN:VEVENT
UID:a06fa95f-7f4f-4815-9503-e5e3c897f0e4@www.harrisburgfc.com
DTSTAMP:20260421T001417Z
DTSTART:20260425T150000Z
DTEND:20260425T160000Z
SUMMARY:Visitation
DESCRIPTION:Harrisburg Funeral & Cremation is serving the family. Please 
	call 704-781-5665 for questions concerning services.
URL:https://www.harrisburgfc.com/obituaries/arthur-sanders
LOCATION: 16901 Old Statesville Rd  Huntersville NC 28078
GEO:35.4415128;-80.8454763
END:VEVENT
END:VCALENDAR