BEGIN:VCALENDAR
VERSION:2.0
PRODID:-//Tukios.com/
BEGIN:VEVENT
UID:0abb7e9e-e59e-4d1d-aee9-e15e6574e7e3@www.harrisburgfc.com
DTSTAMP:20260421T001717Z
DTSTART:20260425T160000Z
DTEND:20260425T170000Z
SUMMARY:Funeral Service
DESCRIPTION:Harrisburg Funeral & Cremation is serving the family. Please 
	call 704-781-5665 for questions concerning services.
URL:https://www.harrisburgfc.com/obituaries/arthur-sanders
LOCATION: 16901 Old Statesville Rd  Huntersville NC 28078
GEO:35.4415128;-80.8454763
END:VEVENT
END:VCALENDAR