BEGIN:VCALENDAR
VERSION:2.0
PRODID:-//Tukios.com/
BEGIN:VEVENT
UID:c74f3664-cdb2-4894-a0a1-c8acada2fbf6@www.harrisburgfc.com
DTSTAMP:20260421T001915Z
DTSTART:20260427T140000Z
DTEND:20260427T143000Z
SUMMARY:Military Honors & Burial
DESCRIPTION:
URL:https://www.harrisburgfc.com/obituaries/arthur-sanders
LOCATION: 501 Statesville Blvd  Salisbury NC 28144
GEO:35.6839912;-80.4945216
END:VEVENT
END:VCALENDAR