BEGIN:VCALENDAR
VERSION:2.0
PRODID:-//Tukios.com/
BEGIN:VEVENT
UID:750f0be1-6003-4f24-a54d-58060c80cf20@www.harrisburgfc.com
DTSTAMP:20260423T083558Z
DTSTART:20260425T180000Z
DTEND:20260425T190000Z
SUMMARY:Celebration of Life
DESCRIPTION:
URL:https://www.harrisburgfc.com/obituaries/tracey-staton-simmons
LOCATION:Christ Episcopal Church 1412 Providence Road  Charlotte NC 28207
GEO:35.1877457;-80.8227394
END:VEVENT
END:VCALENDAR