BEGIN:VCALENDAR
VERSION:2.0
PRODID:-//Tukios.com/
BEGIN:VEVENT
UID:966a6bf6-5e77-49ee-a11f-a81459e1c159@www.harrisburgfc.com
DTSTAMP:20260423T083725Z
DTSTART:20260425T190000Z
DTEND:20260425T200000Z
SUMMARY:Interment
DESCRIPTION:
URL:https://www.harrisburgfc.com/obituaries/tracey-staton-simmons
LOCATION:Christ Episcopal Church 1412 Providence Rd  Charlotte NC 28207
GEO:35.1877457;-80.8227394
END:VEVENT
END:VCALENDAR